BEGIN:VCALENDAR
VERSION:2.0
PRODID:-//TYPO3/NONSGML Calendarize//EN
BEGIN:VEVENT
UID:calendarize-radversteigerung
DTSTAMP:20260416T230138Z
DTSTART:20260509T073000Z
DTEND:20260509T093000Z
SUMMARY:Radversteigerung
DESCRIPTION:Es handelt sich um Fundräder der Stadt MN die nicht abgeholt 
 wurden sowie um Räder die dem Verein gespendet wurden.\nVom City-Rad üb
 er MTB bis Kinderräder ist alles dabei !!!
X-ALT-DESC;FMTTYPE=text/html:<p>Es handelt sich um Fundräder der Stadt MN
  die nicht abgeholt wurden&nbsp\;<br>sowie um Räder die dem Verein gespen
 det wurden.</p>\n<p>Vom City-Rad über MTB bis Kinderräder ist alles dabe
 i !!!</p>
LOCATION:
END:VEVENT
END:VCALENDAR
